BEGIN:VCALENDAR
VERSION:2.0
PRODID:-//Plone.org//NONSGML plone.app.event//EN
X-WR-TIMEZONE:Europe/Rome
BEGIN:VEVENT
SUMMARY:L'inquinamento dell'informazione come danno sociale
DTSTART;TZID=Europe/Rome;VALUE=DATE-TIME:20210917T123000
DTEND;TZID=Europe/Rome;VALUE=DATE-TIME:20210917T133000
DTSTAMP;VALUE=DATE-TIME:20260420T000517Z
UID:4e661cd90bc74a1ea08939ccf60dfc7d@dsps.unibo.it
CREATED;VALUE=DATE-TIME:20210915T124916Z
DESCRIPTION:Seminario tenuto da Anita Lavorgna\, Dept. Sociology\, Social 
 Policy & Criminology\, University of Southampton
LAST-MODIFIED;VALUE=DATE-TIME:20210916T074314Z
URL:https://dsps.unibo.it/it/eventi/l-inquinamento-dell-informazione-come-
 danno-sociale
END:VEVENT
BEGIN:VTIMEZONE
TZID:Europe/Rome
X-LIC-LOCATION:Europe/Rome
BEGIN:DAYLIGHT
DTSTART;VALUE=DATE-TIME:20210328T030000
TZNAME:CEST
TZOFFSETFROM:+0100
TZOFFSETTO:+0200
END:DAYLIGHT
END:VTIMEZONE
END:VCALENDAR
