BEGIN:VCALENDAR
VERSION:2.0
PRODID:-//Plone.org//NONSGML plone.app.event//EN
X-WR-TIMEZONE:Europe/Rome
BEGIN:VEVENT
SUMMARY:L'ECONOMIA TRA IL VENERDÌ E IL SABATO
DTSTART;TZID=Europe/Rome;VALUE=DATE-TIME:20210510T150000
DTEND;TZID=Europe/Rome;VALUE=DATE-TIME:20210510T170000
DTSTAMP;VALUE=DATE-TIME:20260419T165123Z
UID:a894190e89b144078888a54a7794eb8b@dsps.unibo.it
CREATED;VALUE=DATE-TIME:20210427T102210Z
DESCRIPTION:Terzo settore e sostenibilità ambientale
LAST-MODIFIED;VALUE=DATE-TIME:20210427T103131Z
URL:https://dsps.unibo.it/it/eventi/l-economia-tra-il-venerdi-e-il-sabato
END:VEVENT
BEGIN:VTIMEZONE
TZID:Europe/Rome
X-LIC-LOCATION:Europe/Rome
BEGIN:DAYLIGHT
DTSTART;VALUE=DATE-TIME:20210328T030000
TZNAME:CEST
TZOFFSETFROM:+0100
TZOFFSETTO:+0200
END:DAYLIGHT
END:VTIMEZONE
END:VCALENDAR
