BEGIN:VCALENDAR
VERSION:2.0
PRODID:-//Plone.org//NONSGML plone.app.event//EN
X-WR-TIMEZONE:Europe/Rome
BEGIN:VEVENT
SUMMARY:"L’algoritmo definitivo. La macchina che impara da sola e il fut
 uro del nostro mondo" di Pedro Domingos
DTSTART;TZID=Europe/Rome;VALUE=DATE-TIME:20211110T173000
DTEND;TZID=Europe/Rome;VALUE=DATE-TIME:20211110T193000
DTSTAMP;VALUE=DATE-TIME:20260419T190137Z
UID:ec129785752149b8bba8e270e81da9f4@dsps.unibo.it
CREATED;VALUE=DATE-TIME:20211108T103522Z
DESCRIPTION:Ciclo di seminari "Dell’utilità e il danno dell’algoritmo
  per la vita: ovvero dell’artificialità intelligente e del potere"
LAST-MODIFIED;VALUE=DATE-TIME:20211108T104028Z
URL:https://dsps.unibo.it/it/eventi/l-algoritmo-definitivo-la-macchina-che
 -impara-da-sola-e-il-futuro-del-nostro-mondo-di
END:VEVENT
BEGIN:VTIMEZONE
TZID:Europe/Rome
X-LIC-LOCATION:Europe/Rome
BEGIN:STANDARD
DTSTART;VALUE=DATE-TIME:20211031T020000
TZNAME:CET
TZOFFSETFROM:+0200
TZOFFSETTO:+0100
END:STANDARD
END:VTIMEZONE
END:VCALENDAR
