BEGIN:VCALENDAR
VERSION:2.0
PRODID:-//Plone.org//NONSGML plone.app.event//EN
X-WR-TIMEZONE:Europe/Rome
BEGIN:VEVENT
SUMMARY:Journeying. International Cooperation to Development in 2021
DTSTART;TZID=Europe/Rome;VALUE=DATE-TIME:20210526T170000
DTEND;TZID=Europe/Rome;VALUE=DATE-TIME:20210526T190000
DTSTAMP;VALUE=DATE-TIME:20260419T184112Z
UID:cb1defa02b66409f8e319749c656438f@dsps.unibo.it
CREATED;VALUE=DATE-TIME:20210520T074652Z
DESCRIPTION:MIREES Open Lecture
LAST-MODIFIED;VALUE=DATE-TIME:20210520T074845Z
URL:https://dsps.unibo.it/it/eventi/journeying-international-cooperation-t
 o-development-in-2021
END:VEVENT
BEGIN:VTIMEZONE
TZID:Europe/Rome
X-LIC-LOCATION:Europe/Rome
BEGIN:DAYLIGHT
DTSTART;VALUE=DATE-TIME:20210328T030000
TZNAME:CEST
TZOFFSETFROM:+0100
TZOFFSETTO:+0200
END:DAYLIGHT
END:VTIMEZONE
END:VCALENDAR
