BEGIN:VCALENDAR
VERSION:2.0
PRODID:-//Plone.org//NONSGML plone.app.event//EN
X-WR-TIMEZONE:Europe/Rome
BEGIN:VEVENT
SUMMARY:Jobs and the Economy
DTSTART;TZID=Europe/Rome;VALUE=DATE-TIME:20210423T180000
DTEND;TZID=Europe/Rome;VALUE=DATE-TIME:20210423T193000
DTSTAMP;VALUE=DATE-TIME:20260419T211035Z
UID:3d23511ebb554884b1a6ebde7accecf0@dsps.unibo.it
CREATED;VALUE=DATE-TIME:20210415T130611Z
DESCRIPTION:Modello sociale europeo: cosa rimane e cosa vogliamo portare n
 el futuro?
LAST-MODIFIED;VALUE=DATE-TIME:20210415T155131Z
URL:https://dsps.unibo.it/it/eventi/jobs-and-the-economy-modello-sociale-e
 uropeo-cosa-rimane-e-cosa-vogliamo-portare-nel-futuro
END:VEVENT
BEGIN:VTIMEZONE
TZID:Europe/Rome
X-LIC-LOCATION:Europe/Rome
BEGIN:DAYLIGHT
DTSTART;VALUE=DATE-TIME:20210328T030000
TZNAME:CEST
TZOFFSETFROM:+0100
TZOFFSETTO:+0200
END:DAYLIGHT
END:VTIMEZONE
END:VCALENDAR
