BEGIN:VCALENDAR
VERSION:2.0
PRODID:-//Plone.org//NONSGML plone.app.event//EN
X-WR-TIMEZONE:Europe/Rome
BEGIN:VEVENT
SUMMARY:Jobs and the Economy - Il ruolo dell’economia sociale nella pros
 pettiva di Next generation EU
DTSTART;TZID=Europe/Rome;VALUE=DATE-TIME:20210511T180000
DTEND;TZID=Europe/Rome;VALUE=DATE-TIME:20210511T193000
DTSTAMP;VALUE=DATE-TIME:20260419T194317Z
UID:06d355713e5a4c2e86adc347a2a6196b@dsps.unibo.it
CREATED;VALUE=DATE-TIME:20210503T104542Z
LAST-MODIFIED;VALUE=DATE-TIME:20210503T104543Z
URL:https://dsps.unibo.it/it/eventi/jobs-and-the-economy-il-ruolo-dell2019
 economia-sociale-nella-prospettiva-di-next-generation-eu
END:VEVENT
BEGIN:VTIMEZONE
TZID:Europe/Rome
X-LIC-LOCATION:Europe/Rome
BEGIN:DAYLIGHT
DTSTART;VALUE=DATE-TIME:20210328T030000
TZNAME:CEST
TZOFFSETFROM:+0100
TZOFFSETTO:+0200
END:DAYLIGHT
END:VTIMEZONE
END:VCALENDAR
