BEGIN:VCALENDAR
VERSION:2.0
PRODID:-//Plone.org//NONSGML plone.app.event//EN
X-WR-TIMEZONE:Europe/Rome
BEGIN:VEVENT
SUMMARY:Italy and the Middle East
DTSTART;TZID=Europe/Rome;VALUE=DATE-TIME:20211119T150000
DTEND;TZID=Europe/Rome;VALUE=DATE-TIME:20211119T170000
DTSTAMP;VALUE=DATE-TIME:20260419T190043Z
UID:254fb892c14042b1b4495c985e3bc0f9@dsps.unibo.it
CREATED;VALUE=DATE-TIME:20211116T100307Z
DESCRIPTION:Geopolitics\, Dialogue and Power during the Cold War
LAST-MODIFIED;VALUE=DATE-TIME:20211118T085644Z
URL:https://dsps.unibo.it/it/eventi/italy-and-the-middle-east-geopolitics-
 dialogue-and-power-during-the-cold-war
END:VEVENT
BEGIN:VTIMEZONE
TZID:Europe/Rome
X-LIC-LOCATION:Europe/Rome
BEGIN:STANDARD
DTSTART;VALUE=DATE-TIME:20211031T020000
TZNAME:CET
TZOFFSETFROM:+0200
TZOFFSETTO:+0100
END:STANDARD
END:VTIMEZONE
END:VCALENDAR
