BEGIN:VCALENDAR
VERSION:2.0
PRODID:-//Plone.org//NONSGML plone.app.event//EN
X-WR-TIMEZONE:Europe/Rome
BEGIN:VEVENT
SUMMARY:Is the Disorder of our Time Unprecedented?
DTSTART;TZID=Europe/Rome;VALUE=DATE-TIME:20250131T150000
DTEND;TZID=Europe/Rome;VALUE=DATE-TIME:20250131T170000
DTSTAMP;VALUE=DATE-TIME:20260420T182113Z
UID:057b5d3b37a146af8258a22c35970992@dsps.unibo.it
CREATED;VALUE=DATE-TIME:20240826T073544Z
DESCRIPTION:Ayşe Zarakol (University of Cambridge)
LAST-MODIFIED;VALUE=DATE-TIME:20250131T082803Z
URL:https://dsps.unibo.it/it/eventi/is-the-disorder-of-our-time-unpreceden
 ted
END:VEVENT
BEGIN:VTIMEZONE
TZID:Europe/Rome
X-LIC-LOCATION:Europe/Rome
BEGIN:STANDARD
DTSTART;VALUE=DATE-TIME:20241027T020000
TZNAME:CET
TZOFFSETFROM:+0200
TZOFFSETTO:+0100
END:STANDARD
END:VTIMEZONE
END:VCALENDAR
