BEGIN:VCALENDAR
VERSION:2.0
PRODID:-//Plone.org//NONSGML plone.app.event//EN
X-WR-TIMEZONE:Europe/Rome
BEGIN:VEVENT
SUMMARY:International Workshop "Populism and the Reconfiguration of Europe
 an Identities
DTSTART;TZID=Europe/Rome;VALUE=DATE-TIME:20211021T103000
DTEND;TZID=Europe/Rome;VALUE=DATE-TIME:20211022T123000
DTSTAMP;VALUE=DATE-TIME:20260419T190043Z
UID:1debfc306c0b4ac1a36739bd65c0cc7e@dsps.unibo.it
CREATED;VALUE=DATE-TIME:20211019T102737Z
LAST-MODIFIED;VALUE=DATE-TIME:20211019T102737Z
URL:https://dsps.unibo.it/it/eventi/international-workshop-populism-and-th
 e-reconfiguration-of-european-identities
END:VEVENT
BEGIN:VTIMEZONE
TZID:Europe/Rome
X-LIC-LOCATION:Europe/Rome
BEGIN:DAYLIGHT
DTSTART;VALUE=DATE-TIME:20210328T030000
TZNAME:CEST
TZOFFSETFROM:+0100
TZOFFSETTO:+0200
END:DAYLIGHT
END:VTIMEZONE
END:VCALENDAR
