BEGIN:VCALENDAR
VERSION:2.0
PRODID:-//Plone.org//NONSGML plone.app.event//EN
X-WR-TIMEZONE:Europe/Rome
BEGIN:VEVENT
SUMMARY:Informazione\, giustizia epistemica e post-verità
DTSTART;TZID=Europe/Rome;VALUE=DATE-TIME:20210428T130000
DTEND;TZID=Europe/Rome;VALUE=DATE-TIME:20210428T150000
DTSTAMP;VALUE=DATE-TIME:20260423T150715Z
UID:1aa5204ad98740d8832756350076530d@dsps.unibo.it
CREATED;VALUE=DATE-TIME:20210408T132533Z
DESCRIPTION:Convegno nell'ambito dell'insegnamento di "Teoria e storia del
 l'opinione pubblica"\, Corso di Laurea Magistrale Mass Media e Politica
LAST-MODIFIED;VALUE=DATE-TIME:20210412T093908Z
URL:https://dsps.unibo.it/it/eventi/informazione-giustizia-epidemica-e-pos
 t-verita
END:VEVENT
BEGIN:VTIMEZONE
TZID:Europe/Rome
X-LIC-LOCATION:Europe/Rome
BEGIN:DAYLIGHT
DTSTART;VALUE=DATE-TIME:20210328T030000
TZNAME:CEST
TZOFFSETFROM:+0100
TZOFFSETTO:+0200
END:DAYLIGHT
END:VTIMEZONE
END:VCALENDAR
