BEGIN:VCALENDAR
VERSION:2.0
PRODID:-//Plone.org//NONSGML plone.app.event//EN
X-WR-TIMEZONE:Europe/Rome
BEGIN:VEVENT
SUMMARY:Information Manipulation and Post-Truth Politics: Lessons for the 
 Pandemics
DTSTART;TZID=Europe/Rome;VALUE=DATE-TIME:20210520T130000
DTEND;TZID=Europe/Rome;VALUE=DATE-TIME:20210520T150000
DTSTAMP;VALUE=DATE-TIME:20260419T184947Z
UID:24bbd3364f864bd7868da88535d834f3@dsps.unibo.it
CREATED;VALUE=DATE-TIME:20210325T102809Z
DESCRIPTION:Prof. Serena Giusti (Scuola Superiore Sant’Anna) - in the co
 ntext of the Course of Pan-European Security
LAST-MODIFIED;VALUE=DATE-TIME:20210325T102926Z
URL:https://dsps.unibo.it/it/eventi/information-manipulation-and-post-trut
 h-politics-lessons-for-the-pandemics
END:VEVENT
BEGIN:VTIMEZONE
TZID:Europe/Rome
X-LIC-LOCATION:Europe/Rome
BEGIN:DAYLIGHT
DTSTART;VALUE=DATE-TIME:20210328T030000
TZNAME:CEST
TZOFFSETFROM:+0100
TZOFFSETTO:+0200
END:DAYLIGHT
END:VTIMEZONE
END:VCALENDAR
