BEGIN:VCALENDAR
VERSION:2.0
PRODID:-//Plone.org//NONSGML plone.app.event//EN
X-WR-TIMEZONE:Europe/Rome
BEGIN:VEVENT
SUMMARY:Open Lectures: Influence\, Persuasion and Public Speaking
DTSTART;TZID=Europe/Rome;VALUE=DATE-TIME:20211116T170000
DTEND;TZID=Europe/Rome;VALUE=DATE-TIME:20211119T170000
DTSTAMP;VALUE=DATE-TIME:20260419T202701Z
UID:b5d1ef5e3e964a0fb50192612a39a0d5@dsps.unibo.it
CREATED;VALUE=DATE-TIME:20211115T090127Z
DESCRIPTION:Seminario tenuto dal Prof. Sam Potolicchio all'interno del Cor
 so di Laurea Magistrale INTERDISCIPLINARY RESEARCH AND STUDIES ON EASTERN 
 EUROPE
LAST-MODIFIED;VALUE=DATE-TIME:20211116T143654Z
URL:https://dsps.unibo.it/it/eventi/influence-persuasion-and-public-speaki
 ng
END:VEVENT
BEGIN:VTIMEZONE
TZID:Europe/Rome
X-LIC-LOCATION:Europe/Rome
BEGIN:STANDARD
DTSTART;VALUE=DATE-TIME:20211031T020000
TZNAME:CET
TZOFFSETFROM:+0200
TZOFFSETTO:+0100
END:STANDARD
END:VTIMEZONE
END:VCALENDAR
