BEGIN:VCALENDAR
VERSION:2.0
PRODID:-//Plone.org//NONSGML plone.app.event//EN
X-WR-TIMEZONE:Europe/Rome
BEGIN:VEVENT
SUMMARY:In Words We Trust: Speeches that Shaped American Politics
DTSTART;TZID=Europe/Rome;VALUE=DATE-TIME:20210226T143000
DTEND;TZID=Europe/Rome;VALUE=DATE-TIME:20210226T170000
DTSTAMP;VALUE=DATE-TIME:20260419T210743Z
UID:99c1121a0a7d4d3ebd0be1edb69797da@dsps.unibo.it
CREATED;VALUE=DATE-TIME:20210216T074831Z
DESCRIPTION:Workshop a cura dell'Associazione Hikma
LAST-MODIFIED;VALUE=DATE-TIME:20210216T075028Z
URL:https://dsps.unibo.it/it/eventi/in-words-we-trust-speeches-that-shaped
 -american-politics
END:VEVENT
BEGIN:VTIMEZONE
TZID:Europe/Rome
X-LIC-LOCATION:Europe/Rome
BEGIN:STANDARD
DTSTART;VALUE=DATE-TIME:20201025T020000
TZNAME:CET
TZOFFSETFROM:+0200
TZOFFSETTO:+0100
END:STANDARD
END:VTIMEZONE
END:VCALENDAR
