BEGIN:VCALENDAR
VERSION:2.0
PRODID:-//Plone.org//NONSGML plone.app.event//EN
X-WR-TIMEZONE:Europe/Rome
BEGIN:VEVENT
SUMMARY:Il problema dell’identità in una società pluralista
DTSTART;TZID=Europe/Rome;VALUE=DATE-TIME:20211012T110000
DTEND;TZID=Europe/Rome;VALUE=DATE-TIME:20211012T130000
DTSTAMP;VALUE=DATE-TIME:20260419T223242Z
UID:2579f8242e61423bae650e8b4ec732b5@dsps.unibo.it
CREATED;VALUE=DATE-TIME:20211005T114023Z
DESCRIPTION:Prof. Luigi Cimmino (Università di Perugia)
LAST-MODIFIED;VALUE=DATE-TIME:20211005T114206Z
URL:https://dsps.unibo.it/it/eventi/il-problema-dell-identita-in-una-socie
 ta-pluralista
END:VEVENT
BEGIN:VTIMEZONE
TZID:Europe/Rome
X-LIC-LOCATION:Europe/Rome
BEGIN:DAYLIGHT
DTSTART;VALUE=DATE-TIME:20210328T030000
TZNAME:CEST
TZOFFSETFROM:+0100
TZOFFSETTO:+0200
END:DAYLIGHT
END:VTIMEZONE
END:VCALENDAR
