BEGIN:VCALENDAR
VERSION:2.0
PRODID:-//Plone.org//NONSGML plone.app.event//EN
X-WR-TIMEZONE:Europe/Rome
BEGIN:VEVENT
SUMMARY:"Il postumano. La vita oltre l'individuo\, oltre la specie\, oltre
  la morte" di Rosi Braidotti
DTSTART;TZID=Europe/Rome;VALUE=DATE-TIME:20210408T170000
DTEND;TZID=Europe/Rome;VALUE=DATE-TIME:20210408T180000
DTSTAMP;VALUE=DATE-TIME:20260421T155345Z
UID:71fa034e3a0e4562835213d3c6686387@dsps.unibo.it
CREATED;VALUE=DATE-TIME:20210223T083345Z
DESCRIPTION:Ciclo di seminari "Dell’utilità e il danno dell’algoritmo
  per la vita: ovvero dell’artificialità intelligente e del potere"
LAST-MODIFIED;VALUE=DATE-TIME:20210223T083513Z
URL:https://dsps.unibo.it/it/eventi/il-postumano-la-vita-oltre-l-individuo
 -oltre-la-specie-oltre-la-morte-di-rosi-braidotti
END:VEVENT
BEGIN:VTIMEZONE
TZID:Europe/Rome
X-LIC-LOCATION:Europe/Rome
BEGIN:DAYLIGHT
DTSTART;VALUE=DATE-TIME:20210328T030000
TZNAME:CEST
TZOFFSETFROM:+0100
TZOFFSETTO:+0200
END:DAYLIGHT
END:VTIMEZONE
END:VCALENDAR
