BEGIN:VCALENDAR
VERSION:2.0
PRODID:-//Plone.org//NONSGML plone.app.event//EN
X-WR-TIMEZONE:Europe/Rome
BEGIN:VEVENT
SUMMARY:Il Piano vaccini anti Covid-19: analisi del sistema di governance 
 e prima implementazione
DTSTART;TZID=Europe/Rome;VALUE=DATE-TIME:20210609T150000
DTEND;TZID=Europe/Rome;VALUE=DATE-TIME:20210609T160000
DTSTAMP;VALUE=DATE-TIME:20260419T190137Z
UID:ba0e4868e3b44616a8d9e786920e3519@dsps.unibo.it
CREATED;VALUE=DATE-TIME:20210607T114341Z
DESCRIPTION:Post-docs webinar series
LAST-MODIFIED;VALUE=DATE-TIME:20210608T082803Z
URL:https://dsps.unibo.it/it/eventi/il-piano-vaccini-anti-covid-19-analisi
 -del-sistema-di-governance-e-prima-implementazione
END:VEVENT
BEGIN:VTIMEZONE
TZID:Europe/Rome
X-LIC-LOCATION:Europe/Rome
BEGIN:DAYLIGHT
DTSTART;VALUE=DATE-TIME:20210328T030000
TZNAME:CEST
TZOFFSETFROM:+0100
TZOFFSETTO:+0200
END:DAYLIGHT
END:VTIMEZONE
END:VCALENDAR
