BEGIN:VCALENDAR
VERSION:2.0
PRODID:-//Plone.org//NONSGML plone.app.event//EN
X-WR-TIMEZONE:Europe/Rome
BEGIN:VEVENT
SUMMARY:Il Focus Group come Tecnica di Ricerca in un Disegno Mixed Methods
  Applicato agli Enti di Terzo Settore
DTSTART;TZID=Europe/Rome;VALUE=DATE-TIME:20210210T110000
DTEND;TZID=Europe/Rome;VALUE=DATE-TIME:20210210T120000
DTSTAMP;VALUE=DATE-TIME:20260419T223620Z
UID:8a54fcbe76ef4f02bfe1f99b7be9b54d@dsps.unibo.it
CREATED;VALUE=DATE-TIME:20210202T141340Z
DESCRIPTION:Post-docs Webinar Series
LAST-MODIFIED;VALUE=DATE-TIME:20210202T141958Z
URL:https://dsps.unibo.it/it/eventi/il-focus-group-come-tecnica-di-ricerca
 -in-un-disegno-mixed-methods-applicato-agli-enti-di-terzo-settore
END:VEVENT
BEGIN:VTIMEZONE
TZID:Europe/Rome
X-LIC-LOCATION:Europe/Rome
BEGIN:STANDARD
DTSTART;VALUE=DATE-TIME:20201025T020000
TZNAME:CET
TZOFFSETFROM:+0200
TZOFFSETTO:+0100
END:STANDARD
END:VTIMEZONE
END:VCALENDAR
