BEGIN:VCALENDAR
VERSION:2.0
PRODID:-//Plone.org//NONSGML plone.app.event//EN
X-WR-TIMEZONE:Europe/Rome
BEGIN:VEVENT
SUMMARY:Il diritto a non essere soli. Nuove sfide per l'accoglienza e l'in
 clusione dei minori stranieri non accompagnati
DTSTART;TZID=Europe/Rome;VALUE=DATE-TIME:20210528T160000
DTEND;TZID=Europe/Rome;VALUE=DATE-TIME:20210528T180000
DTSTAMP;VALUE=DATE-TIME:20260419T190132Z
UID:a64042e655354306a1c9a37a13d0b5b3@dsps.unibo.it
CREATED;VALUE=DATE-TIME:20210517T075826Z
DESCRIPTION:Prof. Andrea Bassi (Docente di Sociologia Generale Università
  di Bologna)
LAST-MODIFIED;VALUE=DATE-TIME:20210517T080612Z
URL:https://dsps.unibo.it/it/eventi/il-diritto-a-non-essere-soli-nuove-sfi
 de-per-l-accoglienza-e-l-inclusione-dei-minori-stranieri-non-accompagnati
END:VEVENT
BEGIN:VTIMEZONE
TZID:Europe/Rome
X-LIC-LOCATION:Europe/Rome
BEGIN:DAYLIGHT
DTSTART;VALUE=DATE-TIME:20210328T030000
TZNAME:CEST
TZOFFSETFROM:+0100
TZOFFSETTO:+0200
END:DAYLIGHT
END:VTIMEZONE
END:VCALENDAR
