BEGIN:VCALENDAR
VERSION:2.0
PRODID:-//Plone.org//NONSGML plone.app.event//EN
X-WR-TIMEZONE:Europe/Rome
BEGIN:VEVENT
SUMMARY:I leader pop e la stampa popolare
DTSTART;TZID=Europe/Rome;VALUE=DATE-TIME:20211103T170000
DTEND;TZID=Europe/Rome;VALUE=DATE-TIME:20211103T190000
DTSTAMP;VALUE=DATE-TIME:20260419T201654Z
UID:a045124665d14505a97eedeff8430312@dsps.unibo.it
CREATED;VALUE=DATE-TIME:20211012T144906Z
DESCRIPTION:dott.ssa Marianna Aprile\, giornalista
LAST-MODIFIED;VALUE=DATE-TIME:20211026T075637Z
URL:https://dsps.unibo.it/it/eventi/i-leader-pop-e-la-stampa-popolare
END:VEVENT
BEGIN:VTIMEZONE
TZID:Europe/Rome
X-LIC-LOCATION:Europe/Rome
BEGIN:STANDARD
DTSTART;VALUE=DATE-TIME:20211031T020000
TZNAME:CET
TZOFFSETFROM:+0200
TZOFFSETTO:+0100
END:STANDARD
END:VTIMEZONE
END:VCALENDAR
