BEGIN:VCALENDAR
VERSION:2.0
PRODID:-//Plone.org//NONSGML plone.app.event//EN
X-WR-TIMEZONE:Europe/Rome
BEGIN:VEVENT
SUMMARY:I giganti tecnologici: il peso delle Big Tech su mercato\, politic
 a e società
DTSTART;TZID=Europe/Rome;VALUE=DATE-TIME:20210220T140000
DTEND;TZID=Europe/Rome;VALUE=DATE-TIME:20210220T153000
DTSTAMP;VALUE=DATE-TIME:20260419T221010Z
UID:06a79fe916d34dc9b6af3ed4f60f9a2f@dsps.unibo.it
CREATED;VALUE=DATE-TIME:20210216T073030Z
DESCRIPTION:Conferenza a cura dell'Associazione Hikma
LAST-MODIFIED;VALUE=DATE-TIME:20210216T074512Z
URL:https://dsps.unibo.it/it/eventi/i-giganti-tecnologici-il-peso-delle-bi
 g-tech-su-mercato-politica-e-societa
END:VEVENT
BEGIN:VTIMEZONE
TZID:Europe/Rome
X-LIC-LOCATION:Europe/Rome
BEGIN:STANDARD
DTSTART;VALUE=DATE-TIME:20201025T020000
TZNAME:CET
TZOFFSETFROM:+0200
TZOFFSETTO:+0100
END:STANDARD
END:VTIMEZONE
END:VCALENDAR
