BEGIN:VCALENDAR
VERSION:2.0
PRODID:-//Plone.org//NONSGML plone.app.event//EN
X-WR-TIMEZONE:Europe/Rome
BEGIN:VEVENT
SUMMARY:How Tragedy Can Heal Society: The Oresteia as Political Therapy
DTSTART;TZID=Europe/Rome;VALUE=DATE-TIME:20210316T173000
DTEND;TZID=Europe/Rome;VALUE=DATE-TIME:20210316T190000
DTSTAMP;VALUE=DATE-TIME:20260419T233042Z
UID:1b0de87a06d5483aa8823323db517d2a@dsps.unibo.it
CREATED;VALUE=DATE-TIME:20210202T140548Z
LAST-MODIFIED;VALUE=DATE-TIME:20210312T152846Z
URL:https://dsps.unibo.it/it/eventi/how-tragedy-can-heal-society-the-orest
 eia-as-political-therapy
END:VEVENT
BEGIN:VTIMEZONE
TZID:Europe/Rome
X-LIC-LOCATION:Europe/Rome
BEGIN:STANDARD
DTSTART;VALUE=DATE-TIME:20201025T020000
TZNAME:CET
TZOFFSETFROM:+0200
TZOFFSETTO:+0100
END:STANDARD
END:VTIMEZONE
END:VCALENDAR
