BEGIN:VCALENDAR
VERSION:2.0
PRODID:-//Plone.org//NONSGML plone.app.event//EN
X-WR-TIMEZONE:Europe/Rome
BEGIN:VEVENT
SUMMARY:How civil society organizations use information technologies to ad
 dress corruption: perspectives from India and Bangladesh
DTSTART;TZID=Europe/Rome;VALUE=DATE-TIME:20210217T140000
DTEND;TZID=Europe/Rome;VALUE=DATE-TIME:20210217T150000
DTSTAMP;VALUE=DATE-TIME:20260419T221010Z
UID:b1a1d6ab2eb44cef8cb40759371353da@dsps.unibo.it
CREATED;VALUE=DATE-TIME:20210215T093728Z
DESCRIPTION:Post-docs Webinar Series
LAST-MODIFIED;VALUE=DATE-TIME:20210215T100152Z
URL:https://dsps.unibo.it/it/eventi/how-civil-society-organizations-use-in
 formation-technologies-to-address-corruption-perspectives-from-india-and-b
 angladesh
END:VEVENT
BEGIN:VTIMEZONE
TZID:Europe/Rome
X-LIC-LOCATION:Europe/Rome
BEGIN:STANDARD
DTSTART;VALUE=DATE-TIME:20201025T020000
TZNAME:CET
TZOFFSETFROM:+0200
TZOFFSETTO:+0100
END:STANDARD
END:VTIMEZONE
END:VCALENDAR
