BEGIN:VCALENDAR
VERSION:2.0
PRODID:-//Plone.org//NONSGML plone.app.event//EN
X-WR-TIMEZONE:Europe/Rome
BEGIN:VEVENT
SUMMARY:How Civic Action Works: Fighting for Housing in Los Angeles
DTSTART;TZID=Europe/Rome;VALUE=DATE-TIME:20210224T180000
DTEND;TZID=Europe/Rome;VALUE=DATE-TIME:20210224T190000
DTSTAMP;VALUE=DATE-TIME:20260419T194426Z
UID:bb9c46572c8e40cd8c92ecd23d5fab98@dsps.unibo.it
CREATED;VALUE=DATE-TIME:20210204T153941Z
DESCRIPTION:Paul Lictherman (University of Southern California)
LAST-MODIFIED;VALUE=DATE-TIME:20210204T154426Z
URL:https://dsps.unibo.it/it/eventi/how-civic-action-works-fighting-for-ho
 using-in-los-angeles
END:VEVENT
BEGIN:VTIMEZONE
TZID:Europe/Rome
X-LIC-LOCATION:Europe/Rome
BEGIN:STANDARD
DTSTART;VALUE=DATE-TIME:20201025T020000
TZNAME:CET
TZOFFSETFROM:+0200
TZOFFSETTO:+0100
END:STANDARD
END:VTIMEZONE
END:VCALENDAR
