BEGIN:VCALENDAR
VERSION:2.0
PRODID:-//Plone.org//NONSGML plone.app.event//EN
X-WR-TIMEZONE:Europe/Rome
BEGIN:VEVENT
SUMMARY:HAPPY BIRTHDAY ELEANOR!
DTSTART;TZID=Europe/Rome;VALUE=DATE-TIME:20211011T180000
DTEND;TZID=Europe/Rome;VALUE=DATE-TIME:20211011T190000
DTSTAMP;VALUE=DATE-TIME:20260419T202701Z
UID:a235201ef5584335bfb7cf8430c8e1fc@dsps.unibo.it
CREATED;VALUE=DATE-TIME:20211006T092229Z
DESCRIPTION:A conversation with Raffaella Baritono\, author of "Eleonor Ro
 osvelt"(Il Mulino\, 2021)
LAST-MODIFIED;VALUE=DATE-TIME:20211006T092303Z
URL:https://dsps.unibo.it/it/eventi/happy-birthday-eleanor
END:VEVENT
BEGIN:VTIMEZONE
TZID:Europe/Rome
X-LIC-LOCATION:Europe/Rome
BEGIN:DAYLIGHT
DTSTART;VALUE=DATE-TIME:20210328T030000
TZNAME:CEST
TZOFFSETFROM:+0100
TZOFFSETTO:+0200
END:DAYLIGHT
END:VTIMEZONE
END:VCALENDAR
