BEGIN:VCALENDAR
VERSION:2.0
PRODID:-//Plone.org//NONSGML plone.app.event//EN
X-WR-TIMEZONE:Europe/Rome
BEGIN:VEVENT
SUMMARY:GUEST LECTURE: Testing EU’s foreign policy effectiveness: The ca
 ses of Libya and the Sahel
DTSTART;TZID=Europe/Rome;VALUE=DATE-TIME:20210429T130000
DTEND;TZID=Europe/Rome;VALUE=DATE-TIME:20210429T150000
DTSTAMP;VALUE=DATE-TIME:20260419T215832Z
UID:79143d921b4d45f3b98ac244d46518ee@dsps.unibo.it
CREATED;VALUE=DATE-TIME:20210325T111027Z
DESCRIPTION:Guest Lecture by Mr. Giuseppe Famà (Head of EU Affairs\, Inte
 rnational Crisis Group)
LAST-MODIFIED;VALUE=DATE-TIME:20210325T111336Z
URL:https://dsps.unibo.it/it/eventi/guest-lecture-testing-eu-s-foreign-pol
 icy-effectiveness-the-cases-of-libya-and-the-sahel
END:VEVENT
BEGIN:VTIMEZONE
TZID:Europe/Rome
X-LIC-LOCATION:Europe/Rome
BEGIN:DAYLIGHT
DTSTART;VALUE=DATE-TIME:20210328T030000
TZNAME:CEST
TZOFFSETFROM:+0100
TZOFFSETTO:+0200
END:DAYLIGHT
END:VTIMEZONE
END:VCALENDAR
