BEGIN:VCALENDAR
VERSION:2.0
PRODID:-//Plone.org//NONSGML plone.app.event//EN
X-WR-TIMEZONE:Europe/Rome
BEGIN:VEVENT
SUMMARY:GUEST LECTURE: Russia's Intervention in Syria: Political and Milit
 ary Aspects
DTSTART;TZID=Europe/Rome;VALUE=DATE-TIME:20210422T130000
DTEND;TZID=Europe/Rome;VALUE=DATE-TIME:20210422T150000
DTSTAMP;VALUE=DATE-TIME:20260419T221010Z
UID:161830f0b449442487f6685fc04eafe3@dsps.unibo.it
CREATED;VALUE=DATE-TIME:20210301T132426Z
DESCRIPTION:Guest Lecture by Mr Nicolò Fasola (University of Birmingham)
LAST-MODIFIED;VALUE=DATE-TIME:20210301T132539Z
URL:https://dsps.unibo.it/it/eventi/guest-lecture-russia-s-intervention-in
 -syria-political-and-military-aspects
END:VEVENT
BEGIN:VTIMEZONE
TZID:Europe/Rome
X-LIC-LOCATION:Europe/Rome
BEGIN:DAYLIGHT
DTSTART;VALUE=DATE-TIME:20210328T030000
TZNAME:CEST
TZOFFSETFROM:+0100
TZOFFSETTO:+0200
END:DAYLIGHT
END:VTIMEZONE
END:VCALENDAR
