BEGIN:VCALENDAR
VERSION:2.0
PRODID:-//Plone.org//NONSGML plone.app.event//EN
X-WR-TIMEZONE:Europe/Rome
BEGIN:VEVENT
SUMMARY:GUEST LECTURE: Reflecting on Post-Cold War Security Institutions
DTSTART;TZID=Europe/Rome;VALUE=DATE-TIME:20210318T130000
DTEND;TZID=Europe/Rome;VALUE=DATE-TIME:20210318T150000
DTSTAMP;VALUE=DATE-TIME:20260419T205627Z
UID:8be7ec9cd9ef46ed885194bd3dcbf339@dsps.unibo.it
CREATED;VALUE=DATE-TIME:20210301T132824Z
DESCRIPTION:Guest Lecture Dr Nicolò Fasola (University of Birmingham)
LAST-MODIFIED;VALUE=DATE-TIME:20210302T183105Z
URL:https://dsps.unibo.it/it/eventi/guest-lecture-reflecting-on-post-cold-
 war-security-institutions
END:VEVENT
BEGIN:VTIMEZONE
TZID:Europe/Rome
X-LIC-LOCATION:Europe/Rome
BEGIN:STANDARD
DTSTART;VALUE=DATE-TIME:20201025T020000
TZNAME:CET
TZOFFSETFROM:+0200
TZOFFSETTO:+0100
END:STANDARD
END:VTIMEZONE
END:VCALENDAR
