BEGIN:VCALENDAR
VERSION:2.0
PRODID:-//Plone.org//NONSGML plone.app.event//EN
X-WR-TIMEZONE:Europe/Rome
BEGIN:VEVENT
SUMMARY:Guerra civile e ordine politico
DTSTART;TZID=Europe/Rome;VALUE=DATE-TIME:20210504T110000
DTEND;TZID=Europe/Rome;VALUE=DATE-TIME:20210504T130000
DTSTAMP;VALUE=DATE-TIME:20260419T201529Z
UID:27d5ca5301d94d5698410087c643170f@dsps.unibo.it
CREATED;VALUE=DATE-TIME:20210422T080512Z
LAST-MODIFIED;VALUE=DATE-TIME:20210422T083721Z
URL:https://dsps.unibo.it/it/eventi/guerra-civile-e-ordinhttps-segnalaunev
 ento-unibo-it-fieldsetlegend-0e-politico
END:VEVENT
BEGIN:VTIMEZONE
TZID:Europe/Rome
X-LIC-LOCATION:Europe/Rome
BEGIN:DAYLIGHT
DTSTART;VALUE=DATE-TIME:20210328T030000
TZNAME:CEST
TZOFFSETFROM:+0100
TZOFFSETTO:+0200
END:DAYLIGHT
END:VTIMEZONE
END:VCALENDAR
