BEGIN:VCALENDAR
VERSION:2.0
PRODID:-//Plone.org//NONSGML plone.app.event//EN
X-WR-TIMEZONE:Europe/Rome
BEGIN:VEVENT
SUMMARY:GOVERNING DIGITAL CHINA
DTSTART;TZID=Europe/Rome;VALUE=DATE-TIME:20251204T163000
DTEND;TZID=Europe/Rome;VALUE=DATE-TIME:20251204T183000
DTSTAMP;VALUE=DATE-TIME:20260420T175938Z
UID:3f3541adf9984292bbd735b6d91da7bb@dsps.unibo.it
CREATED;VALUE=DATE-TIME:20251117T114336Z
DESCRIPTION:DANIELA STOCKMANN Director of the Centre for Digital Governanc
 e and Professor of Digital Governance\, Hertie School
LAST-MODIFIED;VALUE=DATE-TIME:20251117T114402Z
URL:https://dsps.unibo.it/it/eventi/governing-digital-china
END:VEVENT
BEGIN:VTIMEZONE
TZID:Europe/Rome
X-LIC-LOCATION:Europe/Rome
BEGIN:STANDARD
DTSTART;VALUE=DATE-TIME:20251026T020000
TZNAME:CET
TZOFFSETFROM:+0200
TZOFFSETTO:+0100
END:STANDARD
END:VTIMEZONE
END:VCALENDAR
