BEGIN:VCALENDAR
VERSION:2.0
PRODID:-//Plone.org//NONSGML plone.app.event//EN
X-WR-TIMEZONE:Europe/Rome
BEGIN:VEVENT
SUMMARY:"Gli algoritmi del capitale. Accelerazionismo\, macchine della con
 oscenza e autonomia del comune" a cura di Matteo Pasquinelli
DTSTART;TZID=Europe/Rome;VALUE=DATE-TIME:20211124T173000
DTEND;TZID=Europe/Rome;VALUE=DATE-TIME:20211124T183000
DTSTAMP;VALUE=DATE-TIME:20260419T190132Z
UID:25cef52cb70d4bf3bf5959eaab6892d5@dsps.unibo.it
CREATED;VALUE=DATE-TIME:20211109T112022Z
DESCRIPTION:Ciclo di seminari "Dell’utilità e il danno dell’algoritmo
  per la vita: ovvero dell’artificialità intelligente e del potere"
LAST-MODIFIED;VALUE=DATE-TIME:20211123T080914Z
URL:https://dsps.unibo.it/it/eventi/gli-algoritmi-del-capitale-accelerazio
 nismo-macchine-della-conoscenza-e-autonomia-del-comune-a-cura-di-matteo-pa
 squinelli
END:VEVENT
BEGIN:VTIMEZONE
TZID:Europe/Rome
X-LIC-LOCATION:Europe/Rome
BEGIN:STANDARD
DTSTART;VALUE=DATE-TIME:20211031T020000
TZNAME:CET
TZOFFSETFROM:+0200
TZOFFSETTO:+0100
END:STANDARD
END:VTIMEZONE
END:VCALENDAR
