BEGIN:VCALENDAR
VERSION:2.0
PRODID:-//Plone.org//NONSGML plone.app.event//EN
X-WR-TIMEZONE:Europe/Rome
BEGIN:VEVENT
SUMMARY:"From Russia with Love". How the Pandemic Impacted Russian Foreign
  Policy
DTSTART;TZID=Europe/Rome;VALUE=DATE-TIME:20210330T110000
DTEND;TZID=Europe/Rome;VALUE=DATE-TIME:20210330T130000
DTSTAMP;VALUE=DATE-TIME:20260421T155254Z
UID:9065f22e416142b5b3c94355db89a304@dsps.unibo.it
CREATED;VALUE=DATE-TIME:20210325T095842Z
DESCRIPTION:Prof. Mara Morini (Genoa University)\, in the context of the C
 ourse of Pan-European Security
LAST-MODIFIED;VALUE=DATE-TIME:20210325T100157Z
URL:https://dsps.unibo.it/it/eventi/from-russia-with-love-how-the-pandemic
 -impacted-russian-foreign-policy
END:VEVENT
BEGIN:VTIMEZONE
TZID:Europe/Rome
X-LIC-LOCATION:Europe/Rome
BEGIN:DAYLIGHT
DTSTART;VALUE=DATE-TIME:20210328T030000
TZNAME:CEST
TZOFFSETFROM:+0100
TZOFFSETTO:+0200
END:DAYLIGHT
END:VTIMEZONE
END:VCALENDAR
