BEGIN:VCALENDAR
VERSION:2.0
PRODID:-//Plone.org//NONSGML plone.app.event//EN
X-WR-TIMEZONE:Europe/Rome
BEGIN:VEVENT
SUMMARY:From Rural Welfare to Rural Institutions. FAO’s Efforts in Promo
 ting the Wellbeing of Peasants in Underdeveloped World (1945-70)
DTSTART;TZID=Europe/Rome;VALUE=DATE-TIME:20210428T110000
DTEND;TZID=Europe/Rome;VALUE=DATE-TIME:20210428T120000
DTSTAMP;VALUE=DATE-TIME:20260419T201458Z
UID:173b0b7cf9b1464fbbd5b62b8aba6a17@dsps.unibo.it
CREATED;VALUE=DATE-TIME:20210421T122141Z
DESCRIPTION:Post-docs Webinar Series
LAST-MODIFIED;VALUE=DATE-TIME:20210421T122410Z
URL:https://dsps.unibo.it/it/eventi/from-rural-welfare-to-rural-institutio
 ns-fao-s-efforts-in-promoting-the-wellbeing-of-peasants-in-underdeveloped-
 world-1945-70
END:VEVENT
BEGIN:VTIMEZONE
TZID:Europe/Rome
X-LIC-LOCATION:Europe/Rome
BEGIN:DAYLIGHT
DTSTART;VALUE=DATE-TIME:20210328T030000
TZNAME:CEST
TZOFFSETFROM:+0100
TZOFFSETTO:+0200
END:DAYLIGHT
END:VTIMEZONE
END:VCALENDAR
