BEGIN:VCALENDAR
VERSION:2.0
PRODID:-//Plone.org//NONSGML plone.app.event//EN
X-WR-TIMEZONE:Europe/Rome
BEGIN:VEVENT
SUMMARY:Forlì città del Novecento
DTSTART;TZID=Europe/Rome;VALUE=DATE-TIME:20210917T200000
DTEND;TZID=Europe/Rome;VALUE=DATE-TIME:20210917T230000
DTSTAMP;VALUE=DATE-TIME:20260419T201529Z
UID:0ce9c1c5e2e34d2da67fbe8ae90efde2@dsps.unibo.it
CREATED;VALUE=DATE-TIME:20210911T100614Z
LAST-MODIFIED;VALUE=DATE-TIME:20260324T122122Z
URL:https://dsps.unibo.it/it/eventi/forli-citta-del-novecento
END:VEVENT
BEGIN:VTIMEZONE
TZID:Europe/Rome
X-LIC-LOCATION:Europe/Rome
BEGIN:DAYLIGHT
DTSTART;VALUE=DATE-TIME:20210328T030000
TZNAME:CEST
TZOFFSETFROM:+0100
TZOFFSETTO:+0200
END:DAYLIGHT
END:VTIMEZONE
END:VCALENDAR
