BEGIN:VCALENDAR
VERSION:2.0
PRODID:-//Plone.org//NONSGML plone.app.event//EN
X-WR-TIMEZONE:Europe/Rome
BEGIN:VEVENT
SUMMARY:Femminicidio e discorso pubblico
DTSTART;TZID=Europe/Rome;VALUE=DATE-TIME:20210519T140000
DTEND;TZID=Europe/Rome;VALUE=DATE-TIME:20210519T160000
DTSTAMP;VALUE=DATE-TIME:20260419T183338Z
UID:f804b2a55cd547b08455ee315dea7673@dsps.unibo.it
CREATED;VALUE=DATE-TIME:20210501T192541Z
LAST-MODIFIED;VALUE=DATE-TIME:20210501T192541Z
URL:https://dsps.unibo.it/it/eventi/femminicidio-e-discorso-pubblico-1
END:VEVENT
BEGIN:VTIMEZONE
TZID:Europe/Rome
X-LIC-LOCATION:Europe/Rome
BEGIN:DAYLIGHT
DTSTART;VALUE=DATE-TIME:20210328T030000
TZNAME:CEST
TZOFFSETFROM:+0100
TZOFFSETTO:+0200
END:DAYLIGHT
END:VTIMEZONE
END:VCALENDAR
