BEGIN:VCALENDAR
VERSION:2.0
PRODID:-//Plone.org//NONSGML plone.app.event//EN
X-WR-TIMEZONE:Europe/Rome
BEGIN:VEVENT
SUMMARY:Experimental evidence on the role of aspects of inequality in the 
 green transition and education in Italy
DTSTART;TZID=Europe/Rome;VALUE=DATE-TIME:20240411T130000
DTEND;TZID=Europe/Rome;VALUE=DATE-TIME:20240411T150000
DTSTAMP;VALUE=DATE-TIME:20260420T150558Z
UID:c16c0d6a67a74f97b0ea6e66472e58df@dsps.unibo.it
CREATED;VALUE=DATE-TIME:20240329T081650Z
DESCRIPTION:Seminario
LAST-MODIFIED;VALUE=DATE-TIME:20240402T051603Z
URL:https://dsps.unibo.it/it/eventi/experimental-evidence-on-the-role-of-a
 spects-of-inequality-in-the-green-transition-and-education-in-italy
END:VEVENT
BEGIN:VTIMEZONE
TZID:Europe/Rome
X-LIC-LOCATION:Europe/Rome
BEGIN:DAYLIGHT
DTSTART;VALUE=DATE-TIME:20240331T030000
TZNAME:CEST
TZOFFSETFROM:+0100
TZOFFSETTO:+0200
END:DAYLIGHT
END:VTIMEZONE
END:VCALENDAR
