BEGIN:VCALENDAR
VERSION:2.0
PRODID:-//Plone.org//NONSGML plone.app.event//EN
X-WR-TIMEZONE:Europe/Rome
BEGIN:VEVENT
SUMMARY:European Strategic Autonomy: What\, Why & How
DTSTART;TZID=Europe/Rome;VALUE=DATE-TIME:20210427T110000
DTEND;TZID=Europe/Rome;VALUE=DATE-TIME:20210427T130000
DTSTAMP;VALUE=DATE-TIME:20260419T215553Z
UID:bb9fa9cd1afb4c91a9359e4a5992d97f@dsps.unibo.it
CREATED;VALUE=DATE-TIME:20210325T101421Z
DESCRIPTION:Dr. Riccardo Alcaro (IAI)\, in the Context of the Course of Pa
 n-European Security
LAST-MODIFIED;VALUE=DATE-TIME:20210325T101524Z
URL:https://dsps.unibo.it/it/eventi/european-strategic-autonomy-what-why-h
 ow
END:VEVENT
BEGIN:VTIMEZONE
TZID:Europe/Rome
X-LIC-LOCATION:Europe/Rome
BEGIN:DAYLIGHT
DTSTART;VALUE=DATE-TIME:20210328T030000
TZNAME:CEST
TZOFFSETFROM:+0100
TZOFFSETTO:+0200
END:DAYLIGHT
END:VTIMEZONE
END:VCALENDAR
