BEGIN:VCALENDAR
VERSION:2.0
PRODID:-//Plone.org//NONSGML plone.app.event//EN
X-WR-TIMEZONE:Europe/Rome
BEGIN:VEVENT
SUMMARY:European democracy - L’assetto istituzionale dell’Ue
DTSTART;TZID=Europe/Rome;VALUE=DATE-TIME:20210412T180000
DTEND;TZID=Europe/Rome;VALUE=DATE-TIME:20210412T193000
DTSTAMP;VALUE=DATE-TIME:20260421T155254Z
UID:868d02c3b7614a8db92d7379f3aa8f10@dsps.unibo.it
CREATED;VALUE=DATE-TIME:20210330T134545Z
LAST-MODIFIED;VALUE=DATE-TIME:20210330T134546Z
URL:https://dsps.unibo.it/it/eventi/european-democracy-l2019assetto-istitu
 zionale-dell2019ue
END:VEVENT
BEGIN:VTIMEZONE
TZID:Europe/Rome
X-LIC-LOCATION:Europe/Rome
BEGIN:DAYLIGHT
DTSTART;VALUE=DATE-TIME:20210328T030000
TZNAME:CEST
TZOFFSETFROM:+0100
TZOFFSETTO:+0200
END:DAYLIGHT
END:VTIMEZONE
END:VCALENDAR
