BEGIN:VCALENDAR
VERSION:2.0
PRODID:-//Plone.org//NONSGML plone.app.event//EN
X-WR-TIMEZONE:Europe/Rome
BEGIN:VEVENT
SUMMARY:European Cultural Diplomacy and Arab Christians in Palestine\, 191
 8-1948 Between Contention and Connection
DTSTART;TZID=Europe/Rome;VALUE=DATE-TIME:20210510T170000
DTEND;TZID=Europe/Rome;VALUE=DATE-TIME:20210510T190000
DTSTAMP;VALUE=DATE-TIME:20260419T203120Z
UID:8a3bceb313fd481fb17f65224724bbff@dsps.unibo.it
CREATED;VALUE=DATE-TIME:20210415T094600Z
LAST-MODIFIED;VALUE=DATE-TIME:20210415T152450Z
URL:https://dsps.unibo.it/it/eventi/european-cultural-diplomacy-and-arab-c
 hristians-in-palestine-1918-1948-between-contention-and-connection
END:VEVENT
BEGIN:VTIMEZONE
TZID:Europe/Rome
X-LIC-LOCATION:Europe/Rome
BEGIN:DAYLIGHT
DTSTART;VALUE=DATE-TIME:20210328T030000
TZNAME:CEST
TZOFFSETFROM:+0100
TZOFFSETTO:+0200
END:DAYLIGHT
END:VTIMEZONE
END:VCALENDAR
