BEGIN:VCALENDAR
VERSION:2.0
PRODID:-//Plone.org//NONSGML plone.app.event//EN
X-WR-TIMEZONE:Europe/Rome
BEGIN:VEVENT
SUMMARY:Europe Direct- Punto Europa Forlì
DTSTART;TZID=Europe/Rome;VALUE=DATE-TIME:20151028T203000
DTEND;TZID=Europe/Rome;VALUE=DATE-TIME:20151028T223000
DTSTAMP;VALUE=DATE-TIME:20260420T150136Z
UID:03ab21c4680245548f665bb0aaf2f42f@dsps.unibo.it
CREATED;VALUE=DATE-TIME:20151026T125256Z
DESCRIPTION:Giornata europea contro la tratta di esseri umani
LAST-MODIFIED;VALUE=DATE-TIME:20151026T131207Z
URL:https://dsps.unibo.it/it/eventi/europe-direct-punto-europa-forli-1
END:VEVENT
BEGIN:VTIMEZONE
TZID:Europe/Rome
X-LIC-LOCATION:Europe/Rome
BEGIN:STANDARD
DTSTART;VALUE=DATE-TIME:20151025T020000
TZNAME:CET
TZOFFSETFROM:+0200
TZOFFSETTO:+0100
END:STANDARD
END:VTIMEZONE
END:VCALENDAR
