BEGIN:VCALENDAR
VERSION:2.0
PRODID:-//Plone.org//NONSGML plone.app.event//EN
X-WR-TIMEZONE:Europe/Rome
BEGIN:VEVENT
SUMMARY:EU in the World - L’Unione europea e l’ONU
DTSTART;TZID=Europe/Rome;VALUE=DATE-TIME:20210409T170000
DTEND;TZID=Europe/Rome;VALUE=DATE-TIME:20210409T183000
DTSTAMP;VALUE=DATE-TIME:20260421T155206Z
UID:5216c1e3ec4e420baefef3205d93936b@dsps.unibo.it
CREATED;VALUE=DATE-TIME:20210330T134535Z
LAST-MODIFIED;VALUE=DATE-TIME:20210330T134540Z
URL:https://dsps.unibo.it/it/eventi/eu-in-the-world-l2019unione-europea-e-
 l2019onu
END:VEVENT
BEGIN:VTIMEZONE
TZID:Europe/Rome
X-LIC-LOCATION:Europe/Rome
BEGIN:DAYLIGHT
DTSTART;VALUE=DATE-TIME:20210328T030000
TZNAME:CEST
TZOFFSETFROM:+0100
TZOFFSETTO:+0200
END:DAYLIGHT
END:VTIMEZONE
END:VCALENDAR
