BEGIN:VCALENDAR
VERSION:2.0
PRODID:-//Plone.org//NONSGML plone.app.event//EN
X-WR-TIMEZONE:Europe/Rome
BEGIN:VEVENT
SUMMARY:EU in the World - L’Unione europea e il mondo: intervista a Fede
 rica Mogherini
DTSTART;TZID=Europe/Rome;VALUE=DATE-TIME:20210527T180000
DTEND;TZID=Europe/Rome;VALUE=DATE-TIME:20210527T193000
DTSTAMP;VALUE=DATE-TIME:20260419T190145Z
UID:6833daa131e14639b3622d9f635bfb86@dsps.unibo.it
CREATED;VALUE=DATE-TIME:20210514T204551Z
LAST-MODIFIED;VALUE=DATE-TIME:20210514T204552Z
URL:https://dsps.unibo.it/it/eventi/eu-in-the-world-l2019unione-europea-e-
 il-mondo-intervista-a-federica-mogherini
END:VEVENT
BEGIN:VTIMEZONE
TZID:Europe/Rome
X-LIC-LOCATION:Europe/Rome
BEGIN:DAYLIGHT
DTSTART;VALUE=DATE-TIME:20210328T030000
TZNAME:CEST
TZOFFSETFROM:+0100
TZOFFSETTO:+0200
END:DAYLIGHT
END:VTIMEZONE
END:VCALENDAR
