BEGIN:VCALENDAR
VERSION:2.0
PRODID:-//Plone.org//NONSGML plone.app.event//EN
X-WR-TIMEZONE:Europe/Rome
BEGIN:VEVENT
SUMMARY:Ethical dilemmas and security issues during fieldwork
DTSTART;TZID=Europe/Rome;VALUE=DATE-TIME:20210324T163000
DTEND;TZID=Europe/Rome;VALUE=DATE-TIME:20210324T180000
DTSTAMP;VALUE=DATE-TIME:20260419T202334Z
UID:01e70a3810f945cca592748bf580bd36@dsps.unibo.it
CREATED;VALUE=DATE-TIME:20210205T101246Z
DESCRIPTION:Stephan Malthaner\, Caitlin Procter\, Laura Ruiz de Elvira\, I
 lyas Saliba\, Massimiliano Trentin
LAST-MODIFIED;VALUE=DATE-TIME:20210205T102403Z
URL:https://dsps.unibo.it/it/eventi/ethical-dilemmas-and-security-issues-d
 uring-fieldwork
END:VEVENT
BEGIN:VTIMEZONE
TZID:Europe/Rome
X-LIC-LOCATION:Europe/Rome
BEGIN:STANDARD
DTSTART;VALUE=DATE-TIME:20201025T020000
TZNAME:CET
TZOFFSETFROM:+0200
TZOFFSETTO:+0100
END:STANDARD
END:VTIMEZONE
END:VCALENDAR
