BEGIN:VCALENDAR
VERSION:2.0
PRODID:-//Plone.org//NONSGML plone.app.event//EN
X-WR-TIMEZONE:Europe/Rome
BEGIN:VEVENT
SUMMARY:Ethic of Care as a Feminine Ethics
DTSTART;TZID=Europe/Rome;VALUE=DATE-TIME:20210226T100000
DTEND;TZID=Europe/Rome;VALUE=DATE-TIME:20210226T110000
DTSTAMP;VALUE=DATE-TIME:20260419T232852Z
UID:93413a1f7e5f4f2f8b9c214e4b72e44d@dsps.unibo.it
CREATED;VALUE=DATE-TIME:20210210T113157Z
DESCRIPTION:Seminario organizzato nell'ambito delle attività del Corso di
  Dottorato in Scienza Politiche e Sociali
LAST-MODIFIED;VALUE=DATE-TIME:20210225T142807Z
URL:https://dsps.unibo.it/it/eventi/ethic-of-care-as-a-feminine-ethics
END:VEVENT
BEGIN:VTIMEZONE
TZID:Europe/Rome
X-LIC-LOCATION:Europe/Rome
BEGIN:STANDARD
DTSTART;VALUE=DATE-TIME:20201025T020000
TZNAME:CET
TZOFFSETFROM:+0200
TZOFFSETTO:+0100
END:STANDARD
END:VTIMEZONE
END:VCALENDAR
