BEGIN:VCALENDAR
VERSION:2.0
PRODID:-//Plone.org//NONSGML plone.app.event//EN
X-WR-TIMEZONE:Europe/Rome
BEGIN:VEVENT
SUMMARY:Eleanor Roosevelt. Una biografia politica
DTSTART;TZID=Europe/Rome;VALUE=DATE-TIME:20211209T170000
DTEND;TZID=Europe/Rome;VALUE=DATE-TIME:20211209T190000
DTSTAMP;VALUE=DATE-TIME:20260419T130202Z
UID:3aa4addc293c4be99797385533afed84@dsps.unibo.it
CREATED;VALUE=DATE-TIME:20211129T071602Z
DESCRIPTION:Presentazione del volume di Raffaella Baritono "Eleanor Roosev
 elt. Una biografia politica" il Mulino\, 2021
LAST-MODIFIED;VALUE=DATE-TIME:20211129T072555Z
URL:https://dsps.unibo.it/it/eventi/eleanor-roosevelt-una-biografi-a-polit
 ica
END:VEVENT
BEGIN:VTIMEZONE
TZID:Europe/Rome
X-LIC-LOCATION:Europe/Rome
BEGIN:STANDARD
DTSTART;VALUE=DATE-TIME:20211031T020000
TZNAME:CET
TZOFFSETFROM:+0200
TZOFFSETTO:+0100
END:STANDARD
END:VTIMEZONE
END:VCALENDAR
