BEGIN:VCALENDAR
VERSION:2.0
PRODID:-//Plone.org//NONSGML plone.app.event//EN
X-WR-TIMEZONE:Europe/Rome
BEGIN:VEVENT
SUMMARY:EAST ASIA AND RUSSIA’S WAR AGAINST UKRAINE
DTSTART;TZID=Europe/Rome;VALUE=DATE-TIME:20251014T130000
DTEND;TZID=Europe/Rome;VALUE=DATE-TIME:20251014T140000
DTSTAMP;VALUE=DATE-TIME:20260419T171621Z
UID:fd793ae163f04a5ebc6a8f9186702e6f@dsps.unibo.it
CREATED;VALUE=DATE-TIME:20251007T081531Z
DESCRIPTION:CONNECT Seminar
LAST-MODIFIED;VALUE=DATE-TIME:20251007T081636Z
URL:https://dsps.unibo.it/it/eventi/east-asia-and-russia-s-war-against-ukr
 aine
END:VEVENT
BEGIN:VTIMEZONE
TZID:Europe/Rome
X-LIC-LOCATION:Europe/Rome
BEGIN:DAYLIGHT
DTSTART;VALUE=DATE-TIME:20250330T030000
TZNAME:CEST
TZOFFSETFROM:+0100
TZOFFSETTO:+0200
END:DAYLIGHT
END:VTIMEZONE
END:VCALENDAR
