BEGIN:VCALENDAR
VERSION:2.0
PRODID:-//Plone.org//NONSGML plone.app.event//EN
X-WR-TIMEZONE:Europe/Rome
BEGIN:VEVENT
SUMMARY:Dominio e sottomissione. Schiavi\, animali\, macchine\, Intelligen
 za Artificiale\, di Remo Bodei
DTSTART;TZID=Europe/Rome;VALUE=DATE-TIME:20210225T173000
DTEND;TZID=Europe/Rome;VALUE=DATE-TIME:20210225T183000
DTSTAMP;VALUE=DATE-TIME:20260419T192530Z
UID:588e251b9a124a98a9dd21269d59ac22@dsps.unibo.it
CREATED;VALUE=DATE-TIME:20210222T154400Z
DESCRIPTION:Ciclo di seminari "Dell'utilità e il danno dell'algoritmo per
  la vita: ovvero dell'artificialità intelligente e del potere"
LAST-MODIFIED;VALUE=DATE-TIME:20210225T142853Z
URL:https://dsps.unibo.it/it/eventi/dominio-e-sottomissione-schiavi-animal
 i-macchine-intelligenza-artificiale-di-remo-bodei
END:VEVENT
BEGIN:VTIMEZONE
TZID:Europe/Rome
X-LIC-LOCATION:Europe/Rome
BEGIN:STANDARD
DTSTART;VALUE=DATE-TIME:20201025T020000
TZNAME:CET
TZOFFSETFROM:+0200
TZOFFSETTO:+0100
END:STANDARD
END:VTIMEZONE
END:VCALENDAR
