BEGIN:VCALENDAR
VERSION:2.0
PRODID:-//Plone.org//NONSGML plone.app.event//EN
X-WR-TIMEZONE:Europe/Rome
BEGIN:VEVENT
SUMMARY:Documentario "Cittadino Ruffilli"
DTSTART;TZID=Europe/Rome;VALUE=DATE-TIME:20210505T170000
DTEND;TZID=Europe/Rome;VALUE=DATE-TIME:20210505T190000
DTSTAMP;VALUE=DATE-TIME:20260419T201326Z
UID:259ce0374929433293b4909dff178103@dsps.unibo.it
CREATED;VALUE=DATE-TIME:20210504T072453Z
DESCRIPTION:In occasione del Giorno della memoria delle vittime del terror
 ismo (L. 56/2007).\nNell'ambito dell'insegnamento "Violenza politica e ter
 rorismo" (SID - 8048)
LAST-MODIFIED;VALUE=DATE-TIME:20210504T073540Z
URL:https://dsps.unibo.it/it/eventi/documentario-cittadino-ruffilli-3
END:VEVENT
BEGIN:VTIMEZONE
TZID:Europe/Rome
X-LIC-LOCATION:Europe/Rome
BEGIN:DAYLIGHT
DTSTART;VALUE=DATE-TIME:20210328T030000
TZNAME:CEST
TZOFFSETFROM:+0100
TZOFFSETTO:+0200
END:DAYLIGHT
END:VTIMEZONE
END:VCALENDAR
