BEGIN:VCALENDAR
VERSION:2.0
PRODID:-//Plone.org//NONSGML plone.app.event//EN
X-WR-TIMEZONE:Europe/Rome
BEGIN:VEVENT
SUMMARY:Dissemination and restitution
DTSTART;TZID=Europe/Rome;VALUE=DATE-TIME:20210414T163000
DTEND;TZID=Europe/Rome;VALUE=DATE-TIME:20210414T180000
DTSTAMP;VALUE=DATE-TIME:20260421T154706Z
UID:eddac0de8553486db7b67c4e26b5479f@dsps.unibo.it
CREATED;VALUE=DATE-TIME:20210205T101536Z
DESCRIPTION:Benoit Challand\, Georges Fahmi\, Gennaro Gervasio\, Kevin Koh
 ler\, Ester Sigillò
LAST-MODIFIED;VALUE=DATE-TIME:20210205T102446Z
URL:https://dsps.unibo.it/it/eventi/dissemination-and-restitution
END:VEVENT
BEGIN:VTIMEZONE
TZID:Europe/Rome
X-LIC-LOCATION:Europe/Rome
BEGIN:DAYLIGHT
DTSTART;VALUE=DATE-TIME:20210328T030000
TZNAME:CEST
TZOFFSETFROM:+0100
TZOFFSETTO:+0200
END:DAYLIGHT
END:VTIMEZONE
END:VCALENDAR
