BEGIN:VCALENDAR
VERSION:2.0
PRODID:-//Plone.org//NONSGML plone.app.event//EN
X-WR-TIMEZONE:Europe/Rome
BEGIN:VEVENT
SUMMARY:Digital security and Data Protection
DTSTART;TZID=Europe/Rome;VALUE=DATE-TIME:20210512T163000
DTEND;TZID=Europe/Rome;VALUE=DATE-TIME:20210512T180000
DTSTAMP;VALUE=DATE-TIME:20260419T201326Z
UID:24c768bbb1f645c0b93b8a665afcedaa@dsps.unibo.it
CREATED;VALUE=DATE-TIME:20210205T101746Z
DESCRIPTION:Jannis Grimm (Freie Universitat Berlin)\, Kevin Macnish (Unive
 rsity of Twente)\, Stefania Milan (University of Amsterdam)\, Sebastian va
 n Baleen (Uppsala University)
LAST-MODIFIED;VALUE=DATE-TIME:20210205T102528Z
URL:https://dsps.unibo.it/it/eventi/digital-security-and-data-protection
END:VEVENT
BEGIN:VTIMEZONE
TZID:Europe/Rome
X-LIC-LOCATION:Europe/Rome
BEGIN:DAYLIGHT
DTSTART;VALUE=DATE-TIME:20210328T030000
TZNAME:CEST
TZOFFSETFROM:+0100
TZOFFSETTO:+0200
END:DAYLIGHT
END:VTIMEZONE
END:VCALENDAR
