BEGIN:VCALENDAR
VERSION:2.0
PRODID:-//Plone.org//NONSGML plone.app.event//EN
X-WR-TIMEZONE:Europe/Rome
BEGIN:VEVENT
SUMMARY:"Digital Objects Digital Subjects. Interdisciplinary Perspectives 
 on Capitalism\, Labour and Politics in the Age of Big Data" a cura di Davi
 d Chandler e Christian Fuchs
DTSTART;TZID=Europe/Rome;VALUE=DATE-TIME:20210506T170000
DTEND;TZID=Europe/Rome;VALUE=DATE-TIME:20210506T180000
DTSTAMP;VALUE=DATE-TIME:20260419T203209Z
UID:93c1a23278f14dcbbe85591d81153552@dsps.unibo.it
CREATED;VALUE=DATE-TIME:20210223T083922Z
DESCRIPTION:Ciclo di seminari "Dell’utilità e il danno dell’algoritmo
  per la vita: ovvero dell’artificialità intelligente e del potere"
LAST-MODIFIED;VALUE=DATE-TIME:20210504T063244Z
URL:https://dsps.unibo.it/it/eventi/digital-objects-digital-subjects-inter
 disciplinary-perspectives-on-capitalism-labour-and-politics-in-the-age-of-
 big-data-a-cura-di-david-chandler-e-christian-fuchs
END:VEVENT
BEGIN:VTIMEZONE
TZID:Europe/Rome
X-LIC-LOCATION:Europe/Rome
BEGIN:DAYLIGHT
DTSTART;VALUE=DATE-TIME:20210328T030000
TZNAME:CEST
TZOFFSETFROM:+0100
TZOFFSETTO:+0200
END:DAYLIGHT
END:VTIMEZONE
END:VCALENDAR
